BEGIN:VCALENDAR
VERSION:2.0
PRODID:-//jEvents 2.0 for Joomla//EN
CALSCALE:GREGORIAN
METHOD:PUBLISH
BEGIN:VTIMEZONE
TZID:Europe/Brussels
BEGIN:STANDARD
DTSTART:20240222T200000
RDATE:20240331T030000
TZOFFSETFROM:+0200
TZOFFSETTO:+0100
TZNAME:Europe/Brussels CET
END:STANDARD
BEGIN:STANDARD
DTSTART:20241027T020000
RDATE:20250330T030000
TZOFFSETFROM:+0200
TZOFFSETTO:+0100
TZNAME:Europe/Brussels CET
END:STANDARD
BEGIN:STANDARD
DTSTART:20251026T020000
RDATE:20260329T030000
TZOFFSETFROM:+0200
TZOFFSETTO:+0100
TZNAME:Europe/Brussels CET
END:STANDARD
BEGIN:STANDARD
DTSTART:20261025T020000
RDATE:20270328T030000
TZOFFSETFROM:+0200
TZOFFSETTO:+0100
TZNAME:Europe/Brussels CET
END:STANDARD
BEGIN:STANDARD
DTSTART:20271031T020000
RDATE:20280326T030000
TZOFFSETFROM:+0200
TZOFFSETTO:+0100
TZNAME:Europe/Brussels CET
END:STANDARD
BEGIN:STANDARD
DTSTART:20281029T020000
RDATE:20290325T030000
TZOFFSETFROM:+0200
TZOFFSETTO:+0100
TZNAME:Europe/Brussels CET
END:STANDARD
BEGIN:STANDARD
DTSTART:20291028T020000
RDATE:20300331T030000
TZOFFSETFROM:+0200
TZOFFSETTO:+0100
TZNAME:Europe/Brussels CET
END:STANDARD
BEGIN:STANDARD
DTSTART:20301027T020000
RDATE:20310330T030000
TZOFFSETFROM:+0200
TZOFFSETTO:+0100
TZNAME:Europe/Brussels CET
END:STANDARD
BEGIN:STANDARD
DTSTART:20311026T020000
RDATE:20320328T030000
TZOFFSETFROM:+0200
TZOFFSETTO:+0100
TZNAME:Europe/Brussels CET
END:STANDARD
BEGIN:STANDARD
DTSTART:20321031T020000
RDATE:20330327T030000
TZOFFSETFROM:+0200
TZOFFSETTO:+0100
TZNAME:Europe/Brussels CET
END:STANDARD
BEGIN:STANDARD
DTSTART:20331030T020000
RDATE:20340326T030000
TZOFFSETFROM:+0200
TZOFFSETTO:+0100
TZNAME:Europe/Brussels CET
END:STANDARD
BEGIN:STANDARD
DTSTART:20341029T020000
RDATE:20350325T030000
TZOFFSETFROM:+0200
TZOFFSETTO:+0100
TZNAME:Europe/Brussels CET
END:STANDARD
BEGIN:DAYLIGHT
DTSTART:20240331T030000
RDATE:20241027T020000
TZOFFSETFROM:+0100
TZOFFSETTO:+0200
TZNAME:Europe/Brussels CEST
END:DAYLIGHT
BEGIN:DAYLIGHT
DTSTART:20250330T030000
RDATE:20251026T020000
TZOFFSETFROM:+0100
TZOFFSETTO:+0200
TZNAME:Europe/Brussels CEST
END:DAYLIGHT
BEGIN:DAYLIGHT
DTSTART:20260329T030000
RDATE:20261025T020000
TZOFFSETFROM:+0100
TZOFFSETTO:+0200
TZNAME:Europe/Brussels CEST
END:DAYLIGHT
BEGIN:DAYLIGHT
DTSTART:20270328T030000
RDATE:20271031T020000
TZOFFSETFROM:+0100
TZOFFSETTO:+0200
TZNAME:Europe/Brussels CEST
END:DAYLIGHT
BEGIN:DAYLIGHT
DTSTART:20280326T030000
RDATE:20281029T020000
TZOFFSETFROM:+0100
TZOFFSETTO:+0200
TZNAME:Europe/Brussels CEST
END:DAYLIGHT
BEGIN:DAYLIGHT
DTSTART:20290325T030000
RDATE:20291028T020000
TZOFFSETFROM:+0100
TZOFFSETTO:+0200
TZNAME:Europe/Brussels CEST
END:DAYLIGHT
BEGIN:DAYLIGHT
DTSTART:20300331T030000
RDATE:20301027T020000
TZOFFSETFROM:+0100
TZOFFSETTO:+0200
TZNAME:Europe/Brussels CEST
END:DAYLIGHT
BEGIN:DAYLIGHT
DTSTART:20310330T030000
RDATE:20311026T020000
TZOFFSETFROM:+0100
TZOFFSETTO:+0200
TZNAME:Europe/Brussels CEST
END:DAYLIGHT
BEGIN:DAYLIGHT
DTSTART:20320328T030000
RDATE:20321031T020000
TZOFFSETFROM:+0100
TZOFFSETTO:+0200
TZNAME:Europe/Brussels CEST
END:DAYLIGHT
BEGIN:DAYLIGHT
DTSTART:20330327T030000
RDATE:20331030T020000
TZOFFSETFROM:+0100
TZOFFSETTO:+0200
TZNAME:Europe/Brussels CEST
END:DAYLIGHT
BEGIN:DAYLIGHT
DTSTART:20340326T030000
RDATE:20341029T020000
TZOFFSETFROM:+0100
TZOFFSETTO:+0200
TZNAME:Europe/Brussels CEST
END:DAYLIGHT
END:VTIMEZONE
BEGIN:VEVENT
UID:c70e0276e1b4ff8214da2b544d233c32
CATEGORIES:Muziek
CREATED:20241230T144921
SUMMARY:Benefietconcert van 2 jazzmen t.v.v. het Kijkverdriet
LOCATION:Boshuis
DESCRIPTION:it jaar hebben we het genoegen "2 jazzmen" te mogen ontvangen voor het bene
 fietconcert t.v.v. het Kijkverdriet. 2 jazzmen is een trio (?!) van Zjos, A
 ndré en Lu. Zij leerden elkaar kennen in de stedelijke muziekacademie en hu
 n duidelijk voelbare muzikale connectie bracht hen samen. Zjos en Lu zijn g
 itaristen en André is bassist. Hun repertoire bestaat uit iconische werken 
 van legendes zoals Charlie Parker, Miles Davis, Bennie Goodman, Django Rein
 hardt,... Hun interpretaties zijn respectvol maar toch ook aangepast aan hu
 n eigen inzicht waardoor zij trachten om zich te onderscheiden.  Niet allee
 n Zjos en Lu wisselen tempo’s en solo’s uit, ook André neemt – behalve soli
 de ritmes - met zijn baslijnen ook melodieën voor zijn rekening.  Om de muz
 iekervaring meeslepend te maken spelen zij soms nummers die in de richting 
 van zigeunermuziek wijzen. De luisteraar zal deze ervaring weten te waarder
 en.\nInschrijven voor dit optreden is verplicht (via Dit e-mailadres wordt 
 beveiligd tegen spambots. JavaScript dient ingeschakeld te zijn om het te b
 ekijken.).\nInkom: €6 leden / €8 niet-leden.\nEinde: 22.30 u.\nInfo: Toon M
 oeskops, tel: 0476 81 41 12, Dit e-mailadres wordt beveiligd tegen spambots
 . JavaScript dient ingeschakeld te zijn om het te bekijken.\n
X-ALT-DESC;FMTTYPE=text/html:<p>it jaar hebben we het genoegen "2 jazzmen" te mogen ontvangen voor het b
 enefietconcert t.v.v. het Kijkverdriet. 2 jazzmen is een trio (?!) van Zjos
 , André en Lu. Zij leerden elkaar kennen in de stedelijke muziekacademie en
  hun duidelijk voelbare muzikale connectie bracht hen samen. Zjos en Lu zij
 n gitaristen en André is bassist. Hun repertoire bestaat uit iconische werk
 en van legendes zoals Charlie Parker, Miles Davis, Bennie Goodman, Django R
 einhardt,... Hun interpretaties zijn respectvol maar toch ook aangepast aan
  hun eigen inzicht waardoor zij trachten om zich te onderscheiden.&nbsp; Ni
 et alleen Zjos en Lu wisselen tempo’s en solo’s uit, ook André neemt – beha
 lve solide ritmes - met zijn baslijnen ook melodieën voor zijn rekening.&nb
 sp; Om de muziekervaring meeslepend te maken spelen zij soms nummers die in
  de richting van zigeunermuziek wijzen. De luisteraar zal deze ervaring wet
 en te waarderen.</p><p>Inschrijven voor dit optreden is verplicht (via <joo
 mla-hidden-mail  is-link="1" is-email="1" first="bW9lc2tvcHN0b29u" last="Z2
 1haWwuY29t" text="bW9lc2tvcHN0b29uQGdtYWlsLmNvbQ==" base="" >Dit e-mailadre
 s wordt beveiligd tegen spambots. JavaScript dient ingeschakeld te zijn om 
 het te bekijken.</joomla-hidden-mail>).</p><p>Inkom: €6 leden / €8 niet-led
 en.</p><p>Einde: 22.30 u.</p><p>Info: Toon Moeskops, tel: 0476 81 41 12, <j
 oomla-hidden-mail  is-link="1" is-email="1" first="bW9lc2tvcHN0b29u" last="
 Z21haWwuY29t" text="bW9lc2tvcHN0b29uQGdtYWlsLmNvbQ==" base="" >Dit e-mailad
 res wordt beveiligd tegen spambots. JavaScript dient ingeschakeld te zijn o
 m het te bekijken.</joomla-hidden-mail></p>
CONTACT:Dit e-mailadres wordt beveiligd tegen spambots. JavaScript dient ingeschakeld te zijn om het te bekijken.
DTSTAMP:20260425T184500
DTSTART;TZID=Europe/Brussels:20250222T200000
DTEND;TZID=Europe/Brussels:20250222T223000
SEQUENCE:0
TRANSP:OPAQUE
END:VEVENT
END:VCALENDAR