BEGIN:VCALENDAR
VERSION:2.0
PRODID:-//jEvents 2.0 for Joomla//EN
CALSCALE:GREGORIAN
METHOD:PUBLISH
BEGIN:VTIMEZONE
TZID:Europe/Brussels
BEGIN:STANDARD
DTSTART:20241027T020000
RDATE:20250330T030000
TZOFFSETFROM:+0200
TZOFFSETTO:+0100
TZNAME:Europe/Brussels CET
END:STANDARD
BEGIN:STANDARD
DTSTART:20251026T020000
RDATE:20260329T030000
TZOFFSETFROM:+0200
TZOFFSETTO:+0100
TZNAME:Europe/Brussels CET
END:STANDARD
BEGIN:STANDARD
DTSTART:20261025T020000
RDATE:20270328T030000
TZOFFSETFROM:+0200
TZOFFSETTO:+0100
TZNAME:Europe/Brussels CET
END:STANDARD
BEGIN:STANDARD
DTSTART:20271031T020000
RDATE:20280326T030000
TZOFFSETFROM:+0200
TZOFFSETTO:+0100
TZNAME:Europe/Brussels CET
END:STANDARD
BEGIN:STANDARD
DTSTART:20281029T020000
RDATE:20290325T030000
TZOFFSETFROM:+0200
TZOFFSETTO:+0100
TZNAME:Europe/Brussels CET
END:STANDARD
BEGIN:STANDARD
DTSTART:20291028T020000
RDATE:20300331T030000
TZOFFSETFROM:+0200
TZOFFSETTO:+0100
TZNAME:Europe/Brussels CET
END:STANDARD
BEGIN:STANDARD
DTSTART:20301027T020000
RDATE:20310330T030000
TZOFFSETFROM:+0200
TZOFFSETTO:+0100
TZNAME:Europe/Brussels CET
END:STANDARD
BEGIN:STANDARD
DTSTART:20311026T020000
RDATE:20320328T030000
TZOFFSETFROM:+0200
TZOFFSETTO:+0100
TZNAME:Europe/Brussels CET
END:STANDARD
BEGIN:STANDARD
DTSTART:20321031T020000
RDATE:20330327T030000
TZOFFSETFROM:+0200
TZOFFSETTO:+0100
TZNAME:Europe/Brussels CET
END:STANDARD
BEGIN:STANDARD
DTSTART:20331030T020000
RDATE:20340326T030000
TZOFFSETFROM:+0200
TZOFFSETTO:+0100
TZNAME:Europe/Brussels CET
END:STANDARD
BEGIN:STANDARD
DTSTART:20341029T020000
RDATE:20350325T030000
TZOFFSETFROM:+0200
TZOFFSETTO:+0100
TZNAME:Europe/Brussels CET
END:STANDARD
BEGIN:DAYLIGHT
DTSTART:20240404T200000
RDATE:20241027T020000
TZOFFSETFROM:+0100
TZOFFSETTO:+0200
TZNAME:Europe/Brussels CEST
END:DAYLIGHT
BEGIN:DAYLIGHT
DTSTART:20250330T030000
RDATE:20251026T020000
TZOFFSETFROM:+0100
TZOFFSETTO:+0200
TZNAME:Europe/Brussels CEST
END:DAYLIGHT
BEGIN:DAYLIGHT
DTSTART:20260329T030000
RDATE:20261025T020000
TZOFFSETFROM:+0100
TZOFFSETTO:+0200
TZNAME:Europe/Brussels CEST
END:DAYLIGHT
BEGIN:DAYLIGHT
DTSTART:20270328T030000
RDATE:20271031T020000
TZOFFSETFROM:+0100
TZOFFSETTO:+0200
TZNAME:Europe/Brussels CEST
END:DAYLIGHT
BEGIN:DAYLIGHT
DTSTART:20280326T030000
RDATE:20281029T020000
TZOFFSETFROM:+0100
TZOFFSETTO:+0200
TZNAME:Europe/Brussels CEST
END:DAYLIGHT
BEGIN:DAYLIGHT
DTSTART:20290325T030000
RDATE:20291028T020000
TZOFFSETFROM:+0100
TZOFFSETTO:+0200
TZNAME:Europe/Brussels CEST
END:DAYLIGHT
BEGIN:DAYLIGHT
DTSTART:20300331T030000
RDATE:20301027T020000
TZOFFSETFROM:+0100
TZOFFSETTO:+0200
TZNAME:Europe/Brussels CEST
END:DAYLIGHT
BEGIN:DAYLIGHT
DTSTART:20310330T030000
RDATE:20311026T020000
TZOFFSETFROM:+0100
TZOFFSETTO:+0200
TZNAME:Europe/Brussels CEST
END:DAYLIGHT
BEGIN:DAYLIGHT
DTSTART:20320328T030000
RDATE:20321031T020000
TZOFFSETFROM:+0100
TZOFFSETTO:+0200
TZNAME:Europe/Brussels CEST
END:DAYLIGHT
BEGIN:DAYLIGHT
DTSTART:20330327T030000
RDATE:20331030T020000
TZOFFSETFROM:+0100
TZOFFSETTO:+0200
TZNAME:Europe/Brussels CEST
END:DAYLIGHT
BEGIN:DAYLIGHT
DTSTART:20340326T030000
RDATE:20341029T020000
TZOFFSETFROM:+0100
TZOFFSETTO:+0200
TZNAME:Europe/Brussels CEST
END:DAYLIGHT
END:VTIMEZONE
BEGIN:VEVENT
UID:d02b0d03daca2c68eb44acda2a46cd5b
CATEGORIES:Muziek
CREATED:20241230T151932
SUMMARY:Murder Ballads - Lady Linn, Stijn Meuris, Gregory Frateur
LOCATION:GC De Wouwer
DESCRIPTION:Lady Linn, Gregory Frateur, en Stijn Meuris volgen voor de derde keer een b
 loederig spoor doorheen de muziekgeschiedenis.\nMurder Ballads waren ooit d
 e true crime podcast van de gewone man. Opzienbarende moorden werden vastge
 legd in liedjes die door reizende muzikanten werden gezongen.\nOok Murder B
 allads III trekt van stad naar stad met een bloeddorstig en meeslepend repe
 rtoire. De groep gaat op zoek naar het gruwelijke detail achter vaak ogensc
 hijnlijk onschuldige pop- en rocksongs. Het zal je verbazen, maar zelfs Eng
 elbert Humperdinck en Rihanna lieten zich al eens verleiden door moord en d
 oodslag.\nEen ding is zeker, Murder Ballads III wordt opnieuw bloedmooi. Wi
 e de eerste twee tournees meemaakte, weet dat hier onversneden muzikale kla
 sse samenkomt!\nMurder Ballads. De ballad die niet dood te krijgen is en ze
 lf ook de dood niet laat rusten\n
X-ALT-DESC;FMTTYPE=text/html:<p>Lady Linn, Gregory Frateur, en Stijn Meuris volgen voor de derde keer ee
 n bloederig spoor doorheen de muziekgeschiedenis.</p><p>Murder Ballads ware
 n ooit de true crime podcast van de gewone man. Opzienbarende moorden werde
 n vastgelegd in liedjes die door reizende muzikanten werden gezongen.</p><p
 >Ook Murder Ballads III trekt van stad naar stad met een bloeddorstig en me
 eslepend repertoire. De groep gaat op zoek naar het gruwelijke detail achte
 r vaak ogenschijnlijk onschuldige pop- en rocksongs. Het zal je verbazen, m
 aar zelfs Engelbert Humperdinck en Rihanna lieten zich al eens verleiden do
 or moord en doodslag.</p><p>Een ding is zeker, Murder Ballads III wordt opn
 ieuw bloedmooi. Wie de eerste twee tournees meemaakte, weet dat hier onvers
 neden muzikale klasse samenkomt!</p><p>Murder Ballads. De ballad die niet d
 ood te krijgen is en zelf ook de dood niet laat rusten</p>
CONTACT:GC de Wouwer
X-EXTRAINFO:Basistarief: €27\n-20-jarigen/studenten:€21\nAbonnees/groepen:€24,4
DTSTAMP:20260422T070437
DTSTART;TZID=Europe/Brussels:20250405T200000
DTEND;TZID=Europe/Brussels:20250405T223000
SEQUENCE:0
TRANSP:OPAQUE
END:VEVENT
END:VCALENDAR