BEGIN:VCALENDAR
VERSION:2.0
PRODID:-//jEvents 2.0 for Joomla//EN
CALSCALE:GREGORIAN
METHOD:PUBLISH
BEGIN:VTIMEZONE
TZID:Europe/Brussels
BEGIN:STANDARD
DTSTART:20250129T200000
RDATE:20250330T030000
TZOFFSETFROM:+0200
TZOFFSETTO:+0100
TZNAME:Europe/Brussels CET
END:STANDARD
BEGIN:STANDARD
DTSTART:20251026T020000
RDATE:20260329T030000
TZOFFSETFROM:+0200
TZOFFSETTO:+0100
TZNAME:Europe/Brussels CET
END:STANDARD
BEGIN:STANDARD
DTSTART:20261025T020000
RDATE:20270328T030000
TZOFFSETFROM:+0200
TZOFFSETTO:+0100
TZNAME:Europe/Brussels CET
END:STANDARD
BEGIN:STANDARD
DTSTART:20271031T020000
RDATE:20280326T030000
TZOFFSETFROM:+0200
TZOFFSETTO:+0100
TZNAME:Europe/Brussels CET
END:STANDARD
BEGIN:STANDARD
DTSTART:20281029T020000
RDATE:20290325T030000
TZOFFSETFROM:+0200
TZOFFSETTO:+0100
TZNAME:Europe/Brussels CET
END:STANDARD
BEGIN:STANDARD
DTSTART:20291028T020000
RDATE:20300331T030000
TZOFFSETFROM:+0200
TZOFFSETTO:+0100
TZNAME:Europe/Brussels CET
END:STANDARD
BEGIN:STANDARD
DTSTART:20301027T020000
RDATE:20310330T030000
TZOFFSETFROM:+0200
TZOFFSETTO:+0100
TZNAME:Europe/Brussels CET
END:STANDARD
BEGIN:STANDARD
DTSTART:20311026T020000
RDATE:20320328T030000
TZOFFSETFROM:+0200
TZOFFSETTO:+0100
TZNAME:Europe/Brussels CET
END:STANDARD
BEGIN:STANDARD
DTSTART:20321031T020000
RDATE:20330327T030000
TZOFFSETFROM:+0200
TZOFFSETTO:+0100
TZNAME:Europe/Brussels CET
END:STANDARD
BEGIN:STANDARD
DTSTART:20331030T020000
RDATE:20340326T030000
TZOFFSETFROM:+0200
TZOFFSETTO:+0100
TZNAME:Europe/Brussels CET
END:STANDARD
BEGIN:STANDARD
DTSTART:20341029T020000
RDATE:20350325T030000
TZOFFSETFROM:+0200
TZOFFSETTO:+0100
TZNAME:Europe/Brussels CET
END:STANDARD
BEGIN:DAYLIGHT
DTSTART:20250330T030000
RDATE:20251026T020000
TZOFFSETFROM:+0100
TZOFFSETTO:+0200
TZNAME:Europe/Brussels CEST
END:DAYLIGHT
BEGIN:DAYLIGHT
DTSTART:20260329T030000
RDATE:20261025T020000
TZOFFSETFROM:+0100
TZOFFSETTO:+0200
TZNAME:Europe/Brussels CEST
END:DAYLIGHT
BEGIN:DAYLIGHT
DTSTART:20270328T030000
RDATE:20271031T020000
TZOFFSETFROM:+0100
TZOFFSETTO:+0200
TZNAME:Europe/Brussels CEST
END:DAYLIGHT
BEGIN:DAYLIGHT
DTSTART:20280326T030000
RDATE:20281029T020000
TZOFFSETFROM:+0100
TZOFFSETTO:+0200
TZNAME:Europe/Brussels CEST
END:DAYLIGHT
BEGIN:DAYLIGHT
DTSTART:20290325T030000
RDATE:20291028T020000
TZOFFSETFROM:+0100
TZOFFSETTO:+0200
TZNAME:Europe/Brussels CEST
END:DAYLIGHT
BEGIN:DAYLIGHT
DTSTART:20300331T030000
RDATE:20301027T020000
TZOFFSETFROM:+0100
TZOFFSETTO:+0200
TZNAME:Europe/Brussels CEST
END:DAYLIGHT
BEGIN:DAYLIGHT
DTSTART:20310330T030000
RDATE:20311026T020000
TZOFFSETFROM:+0100
TZOFFSETTO:+0200
TZNAME:Europe/Brussels CEST
END:DAYLIGHT
BEGIN:DAYLIGHT
DTSTART:20320328T030000
RDATE:20321031T020000
TZOFFSETFROM:+0100
TZOFFSETTO:+0200
TZNAME:Europe/Brussels CEST
END:DAYLIGHT
BEGIN:DAYLIGHT
DTSTART:20330327T030000
RDATE:20331030T020000
TZOFFSETFROM:+0100
TZOFFSETTO:+0200
TZNAME:Europe/Brussels CEST
END:DAYLIGHT
BEGIN:DAYLIGHT
DTSTART:20340326T030000
RDATE:20341029T020000
TZOFFSETFROM:+0100
TZOFFSETTO:+0200
TZNAME:Europe/Brussels CEST
END:DAYLIGHT
END:VTIMEZONE
BEGIN:VEVENT
UID:f34ee99a07c7feffa4833ff1d1536b64RR3048
CATEGORIES:Toneel
CREATED:19700101T010000
SUMMARY:De Plankeniers " De koteletten hebben oren"
LOCATION:GC De Wouwer\nKloosterstraat 4\nRavels\nAntwerpen\n2380\nBegië\n014 65 48 6
 5\nhttp://dewouwer.be (http://dewouwer.be)
DESCRIPTION:Het is 1966 en beenhouwer Piet Schellekens leidt een rustig bestaan in zijn
  slagerij. Alleen zijn bazige vrouw zorgt soms voor wat rimpels in zijn vre
 dig leventje. Dan duikt ineens zijn broer Bert weer op, na 10 jaar. De blij
 dschap van het weerzien duurt niet lang, want Bert is geheimagent geworden 
 en vraagt Piet om een bijzondere gunst: of die een speciale portie van 80 k
 g vlees in zijn koeling wil bewaren. Voor even maar, beloofd. Voor Piet het
  goed beseft, komt hij terecht in een spiraal van gekke gebeurtenissen met 
 wachtwoorden, geheime kipfilets en enkele geheimzinnige hansworsten …\nRegi
 e: Dominic Depreeuw\nMet:\nFloor Leemans\nEric Maes\nHilde Starckx\nFrank V
 an Dun\nGunter Van Hoye\nKristof Van Nooten\nLuc Vloemans\nLeen Vosters\nSp
 eeldata:\nVrijdag 30 januari 2026 om 20u00 (theatercafé)\nZaterdag 31 janua
 ri 2026 om 20u00 (theatercafé)\nDinsdag 3 februari 2026 om 20u00 (tribune)\
 nWoensdag 4 februari 2026 om 20u00 (tribune)\nVrijdag 6 februari 2026 om 20
 u00 (theatercafé)\nZaterdag 7 februari 2026 om 20u00 (theatercafé)\nZondag 
 8 februari 2026 om 14u00 (matinee theatercafé)\nLocatie: GC De Wouwer\nToeg
 ang: 12/10 euro (2,40 euro kansentarief UiTpas) \n
X-ALT-DESC;FMTTYPE=text/html:<p>Het is 1966 en beenhouwer Piet Schellekens leidt een rustig bestaan in z
 ijn slagerij. Alleen zijn bazige vrouw zorgt soms voor wat rimpels in zijn 
 vredig leventje. Dan duikt ineens zijn broer Bert weer op, na 10 jaar. De b
 lijdschap van het weerzien duurt niet lang, want Bert is geheimagent geword
 en en vraagt Piet om een bijzondere gunst: of die een speciale portie van 8
 0 kg vlees in zijn koeling wil bewaren. Voor even maar, beloofd. Voor Piet 
 het goed beseft, komt hij terecht in een spiraal van gekke gebeurtenissen m
 et wachtwoorden, geheime kipfilets en enkele geheimzinnige hansworsten …</p
 ><p>Regie: Dominic Depreeuw</p><p>Met:<br />Floor Leemans<br />Eric Maes<br
  />Hilde Starckx<br />Frank Van Dun<br />Gunter Van Hoye<br />Kristof Van N
 ooten<br />Luc Vloemans<br />Leen Vosters</p><p>Speeldata:<br />Vrijdag 30 
 januari 2026 om 20u00 (theatercafé)<br />Zaterdag 31 januari 2026 om 20u00 
 (theatercafé)<br />Dinsdag 3 februari 2026 om 20u00 (tribune)<br />Woensdag
  4 februari 2026 om 20u00 (tribune)<br />Vrijdag 6 februari 2026 om 20u00 (
 theatercafé)<br />Zaterdag 7 februari 2026 om 20u00 (theatercafé)<br />Zond
 ag 8 februari 2026 om 14u00 (matinee theatercafé)</p><p>Locatie: GC De Wouw
 er</p><p>Toegang: 12/10 euro (2,40 euro kansentarief UiTpas)&nbsp;</p>
CONTACT:De Plankeniers
DTSTAMP:20260423T200848
DTSTART;TZID=Europe/Brussels:20260130T200000
DTEND;TZID=Europe/Brussels:20260130T223000
SEQUENCE:0
TRANSP:OPAQUE
END:VEVENT
END:VCALENDAR