BEGIN:VCALENDAR
VERSION:2.0
PRODID:-//jEvents 2.0 for Joomla//EN
CALSCALE:GREGORIAN
METHOD:PUBLISH
BEGIN:VTIMEZONE
TZID:Europe/Brussels
BEGIN:STANDARD
DTSTART:20251026T020000
RDATE:20260329T030000
TZOFFSETFROM:+0200
TZOFFSETTO:+0100
TZNAME:Europe/Brussels CET
END:STANDARD
BEGIN:STANDARD
DTSTART:20261025T020000
RDATE:20270328T030000
TZOFFSETFROM:+0200
TZOFFSETTO:+0100
TZNAME:Europe/Brussels CET
END:STANDARD
BEGIN:STANDARD
DTSTART:20271031T020000
RDATE:20280326T030000
TZOFFSETFROM:+0200
TZOFFSETTO:+0100
TZNAME:Europe/Brussels CET
END:STANDARD
BEGIN:STANDARD
DTSTART:20281029T020000
RDATE:20290325T030000
TZOFFSETFROM:+0200
TZOFFSETTO:+0100
TZNAME:Europe/Brussels CET
END:STANDARD
BEGIN:STANDARD
DTSTART:20291028T020000
RDATE:20300331T030000
TZOFFSETFROM:+0200
TZOFFSETTO:+0100
TZNAME:Europe/Brussels CET
END:STANDARD
BEGIN:STANDARD
DTSTART:20301027T020000
RDATE:20310330T030000
TZOFFSETFROM:+0200
TZOFFSETTO:+0100
TZNAME:Europe/Brussels CET
END:STANDARD
BEGIN:STANDARD
DTSTART:20311026T020000
RDATE:20320328T030000
TZOFFSETFROM:+0200
TZOFFSETTO:+0100
TZNAME:Europe/Brussels CET
END:STANDARD
BEGIN:STANDARD
DTSTART:20321031T020000
RDATE:20330327T030000
TZOFFSETFROM:+0200
TZOFFSETTO:+0100
TZNAME:Europe/Brussels CET
END:STANDARD
BEGIN:STANDARD
DTSTART:20331030T020000
RDATE:20340326T030000
TZOFFSETFROM:+0200
TZOFFSETTO:+0100
TZNAME:Europe/Brussels CET
END:STANDARD
BEGIN:STANDARD
DTSTART:20341029T020000
RDATE:20350325T030000
TZOFFSETFROM:+0200
TZOFFSETTO:+0100
TZNAME:Europe/Brussels CET
END:STANDARD
BEGIN:DAYLIGHT
DTSTART:20250806T180000
RDATE:20251026T020000
TZOFFSETFROM:+0100
TZOFFSETTO:+0200
TZNAME:Europe/Brussels CEST
END:DAYLIGHT
BEGIN:DAYLIGHT
DTSTART:20260329T030000
RDATE:20261025T020000
TZOFFSETFROM:+0100
TZOFFSETTO:+0200
TZNAME:Europe/Brussels CEST
END:DAYLIGHT
BEGIN:DAYLIGHT
DTSTART:20270328T030000
RDATE:20271031T020000
TZOFFSETFROM:+0100
TZOFFSETTO:+0200
TZNAME:Europe/Brussels CEST
END:DAYLIGHT
BEGIN:DAYLIGHT
DTSTART:20280326T030000
RDATE:20281029T020000
TZOFFSETFROM:+0100
TZOFFSETTO:+0200
TZNAME:Europe/Brussels CEST
END:DAYLIGHT
BEGIN:DAYLIGHT
DTSTART:20290325T030000
RDATE:20291028T020000
TZOFFSETFROM:+0100
TZOFFSETTO:+0200
TZNAME:Europe/Brussels CEST
END:DAYLIGHT
BEGIN:DAYLIGHT
DTSTART:20300331T030000
RDATE:20301027T020000
TZOFFSETFROM:+0100
TZOFFSETTO:+0200
TZNAME:Europe/Brussels CEST
END:DAYLIGHT
BEGIN:DAYLIGHT
DTSTART:20310330T030000
RDATE:20311026T020000
TZOFFSETFROM:+0100
TZOFFSETTO:+0200
TZNAME:Europe/Brussels CEST
END:DAYLIGHT
BEGIN:DAYLIGHT
DTSTART:20320328T030000
RDATE:20321031T020000
TZOFFSETFROM:+0100
TZOFFSETTO:+0200
TZNAME:Europe/Brussels CEST
END:DAYLIGHT
BEGIN:DAYLIGHT
DTSTART:20330327T030000
RDATE:20331030T020000
TZOFFSETFROM:+0100
TZOFFSETTO:+0200
TZNAME:Europe/Brussels CEST
END:DAYLIGHT
BEGIN:DAYLIGHT
DTSTART:20340326T030000
RDATE:20341029T020000
TZOFFSETFROM:+0100
TZOFFSETTO:+0200
TZNAME:Europe/Brussels CEST
END:DAYLIGHT
END:VTIMEZONE
BEGIN:VEVENT
UID:7093b20aff7dc303a33172ff0c83d543
CATEGORIES:Sport
CREATED:20260203T125127
SUMMARY:Halve Marathon Poppel
LOCATION:KFC Poppel
DESCRIPTION:Wedstrijd detailsEen prachtige halve marathon in 2 rondes van 10,5 km. door
  de natuur van Poppel.\nAfstanden: Kinderen: 400m en 800m – Volwassenen: 5k
 m – 10,5km – 21,1km\nStartuur: 18.30u (kinderen), 19.00u (volwassenen)\nPri
 js (voorinschrijving): 4,00 EUR (5km – 10,5km) – 8,00 EUR (21,1km)\nDaginsc
 hrijving: 5,00 EUR en 10,00 EUR\nkidsloop = GRATIS\nVoorinschrijven: KLIK H
 IER (https://www.noordloper.be/2024/06/14/voorinschrijving-halve-marathon-p
 oppel-09-08-2024/)\nContact: Dit e-mailadres wordt beveiligd tegen spambots
 . JavaScript dient ingeschakeld te zijn om het te bekijken.\nAdres: KFC Pop
 pel – Steenweg Baarle 58 – 2382 Ravels (Poppel)\n
X-ALT-DESC;FMTTYPE=text/html:<h3>Wedstrijd details</h3><p>Een prachtige halve marathon in 2 rondes van 1
 0,5 km. door de natuur van Poppel.</p><p>Afstanden:&nbsp;<strong><strong>Ki
 nderen:&nbsp;</strong></strong>400m en 800m –&nbsp;<strong><strong>Volwasse
 nen:&nbsp;</strong></strong>5km – 10,5km – 21,1km</p><p>Startuur: 18.30u (k
 inderen), 19.00u (volwassenen)</p><p>Prijs (voorinschrijving): 4,00 EUR (5k
 m – 10,5km) – 8,00 EUR (21,1km)<br />Daginschrijving: 5,00 EUR en 10,00 EUR
 <br />kidsloop = GRATIS</p><p>Voorinschrijven:&nbsp;<a href="https://www.no
 ordloper.be/2024/06/14/voorinschrijving-halve-marathon-poppel-09-08-2024/">
 KLIK HIER</a></p><p>Contact:&nbsp;<joomla-hidden-mail  is-link="1" is-email
 ="1" first="bGV1c2U4Ng==" last="aG90bWFpbC5jb20=" text="bGV1c2U4NkBob3RtYWl
 sLmNvbQ==" base="" >Dit e-mailadres wordt beveiligd tegen spambots. JavaScr
 ipt dient ingeschakeld te zijn om het te bekijken.</joomla-hidden-mail></p>
 <p>Adres: KFC Poppel – Steenweg Baarle 58 – 2382 Ravels (Poppel)</p>
CONTACT:Dit e-mailadres wordt beveiligd tegen spambots. JavaScript dient ingeschakeld te zijn om het te bekijken.
DTSTAMP:20260419T130647
DTSTART;TZID=Europe/Brussels:20260807T180000
SEQUENCE:0
TRANSP:OPAQUE
END:VEVENT
END:VCALENDAR