BEGIN:VCALENDAR
VERSION:2.0
PRODID:-//jEvents 2.0 for Joomla//EN
CALSCALE:GREGORIAN
METHOD:PUBLISH
BEGIN:VTIMEZONE
TZID:Europe/Brussels
BEGIN:STANDARD
DTSTART:20251026T020000
RDATE:20260329T030000
TZOFFSETFROM:+0200
TZOFFSETTO:+0100
TZNAME:Europe/Brussels CET
END:STANDARD
BEGIN:STANDARD
DTSTART:20261025T020000
RDATE:20270328T030000
TZOFFSETFROM:+0200
TZOFFSETTO:+0100
TZNAME:Europe/Brussels CET
END:STANDARD
BEGIN:STANDARD
DTSTART:20271031T020000
RDATE:20280326T030000
TZOFFSETFROM:+0200
TZOFFSETTO:+0100
TZNAME:Europe/Brussels CET
END:STANDARD
BEGIN:STANDARD
DTSTART:20281029T020000
RDATE:20290325T030000
TZOFFSETFROM:+0200
TZOFFSETTO:+0100
TZNAME:Europe/Brussels CET
END:STANDARD
BEGIN:STANDARD
DTSTART:20291028T020000
RDATE:20300331T030000
TZOFFSETFROM:+0200
TZOFFSETTO:+0100
TZNAME:Europe/Brussels CET
END:STANDARD
BEGIN:STANDARD
DTSTART:20301027T020000
RDATE:20310330T030000
TZOFFSETFROM:+0200
TZOFFSETTO:+0100
TZNAME:Europe/Brussels CET
END:STANDARD
BEGIN:STANDARD
DTSTART:20311026T020000
RDATE:20320328T030000
TZOFFSETFROM:+0200
TZOFFSETTO:+0100
TZNAME:Europe/Brussels CET
END:STANDARD
BEGIN:STANDARD
DTSTART:20321031T020000
RDATE:20330327T030000
TZOFFSETFROM:+0200
TZOFFSETTO:+0100
TZNAME:Europe/Brussels CET
END:STANDARD
BEGIN:STANDARD
DTSTART:20331030T020000
RDATE:20340326T030000
TZOFFSETFROM:+0200
TZOFFSETTO:+0100
TZNAME:Europe/Brussels CET
END:STANDARD
BEGIN:STANDARD
DTSTART:20341029T020000
RDATE:20350325T030000
TZOFFSETFROM:+0200
TZOFFSETTO:+0100
TZNAME:Europe/Brussels CET
END:STANDARD
BEGIN:DAYLIGHT
DTSTART:20250904T133000
RDATE:20251026T020000
TZOFFSETFROM:+0100
TZOFFSETTO:+0200
TZNAME:Europe/Brussels CEST
END:DAYLIGHT
BEGIN:DAYLIGHT
DTSTART:20260329T030000
RDATE:20261025T020000
TZOFFSETFROM:+0100
TZOFFSETTO:+0200
TZNAME:Europe/Brussels CEST
END:DAYLIGHT
BEGIN:DAYLIGHT
DTSTART:20270328T030000
RDATE:20271031T020000
TZOFFSETFROM:+0100
TZOFFSETTO:+0200
TZNAME:Europe/Brussels CEST
END:DAYLIGHT
BEGIN:DAYLIGHT
DTSTART:20280326T030000
RDATE:20281029T020000
TZOFFSETFROM:+0100
TZOFFSETTO:+0200
TZNAME:Europe/Brussels CEST
END:DAYLIGHT
BEGIN:DAYLIGHT
DTSTART:20290325T030000
RDATE:20291028T020000
TZOFFSETFROM:+0100
TZOFFSETTO:+0200
TZNAME:Europe/Brussels CEST
END:DAYLIGHT
BEGIN:DAYLIGHT
DTSTART:20300331T030000
RDATE:20301027T020000
TZOFFSETFROM:+0100
TZOFFSETTO:+0200
TZNAME:Europe/Brussels CEST
END:DAYLIGHT
BEGIN:DAYLIGHT
DTSTART:20310330T030000
RDATE:20311026T020000
TZOFFSETFROM:+0100
TZOFFSETTO:+0200
TZNAME:Europe/Brussels CEST
END:DAYLIGHT
BEGIN:DAYLIGHT
DTSTART:20320328T030000
RDATE:20321031T020000
TZOFFSETFROM:+0100
TZOFFSETTO:+0200
TZNAME:Europe/Brussels CEST
END:DAYLIGHT
BEGIN:DAYLIGHT
DTSTART:20330327T030000
RDATE:20331030T020000
TZOFFSETFROM:+0100
TZOFFSETTO:+0200
TZNAME:Europe/Brussels CEST
END:DAYLIGHT
BEGIN:DAYLIGHT
DTSTART:20340326T030000
RDATE:20341029T020000
TZOFFSETFROM:+0100
TZOFFSETTO:+0200
TZNAME:Europe/Brussels CEST
END:DAYLIGHT
END:VTIMEZONE
BEGIN:VEVENT
UID:e6229321a7d69900af54236a899d2b67
CATEGORIES:Sport
CREATED:20260203T125527
SUMMARY:Piereloop Ravels 2026
LOCATION:GC De Wouwer
DESCRIPTION:Wedstrijd detailsATERDAG 5 september 2026\nDe Pierenloop bestaat ondertusse
 n meer dan 30 jaar en is genoemd naar de inwoners van Ravels, de Ravelse pi
 eren. Tijdens het weekend van Ravels kermis wordt de Pierenloop georganisee
 rd, een jogging over verschillende afstanden met start en aankomst in het c
 entrum van Ravels. \nSinds enkele jaren hebben we ook voor de wandelaars en
 kele parcours uitgestippeld.  \nIs uw bedrijf een klein beetje sportief aan
 gelegd? Dan hebben we daarbij nog een heel mooie KMO-challenge waaraan je k
 an deelnemen.  \nVoor ieder wat wils toch? \nDit jaar wordt de Pierenloop g
 eorganiseerd op zaterdag  6 september 2025.\n  \n\n - Waar:   De WOUWER – k
 loosterstraat – RavelsKinderlopen starten om 14.00u met eerst de 400 meter 
 voor de allerkleinsten\n - 14.10u: start van 1 km\n - Voorlopers zijn voorz
 ien bij de 400m en 1km tot ongeveer halverwege de afstand.\n - 14.45u: kind
 ertombola waar er heel wat bonnen voor kermisattracties te winnen zijn!\n -
  14.30u: start van de 11 km en de 10 miles.\n - 14.40u: start van de 5 km.\
 n - Prijsuitreiking na aankomst van de laatste loper.\n - Tassenbewaking va
 naf 13.30u in zaal de Wouwer.\n - Daginschrijvingen op 6 september:\n - Van
  8u30 tot 14u voor wandelaars\n - Van 12u tot 14u voor lopersContact: Dit e
 -mailadres wordt beveiligd tegen spambots. JavaScript dient ingeschakeld te
  zijn om het te bekijken.\nPrijs : € 10,00 voorinschrijving met T shirt – €
  14,00 daginschrijving – € 4,00 kinderen\nWebsite en voorinschrijven: www.p
 ierenloop.be (http://www.pierenloop.be/)\n
X-ALT-DESC;FMTTYPE=text/html:<h3>Wedstrijd details</h3><p>ATERDAG 5 september 2026</p><p>De <strong><str
 ong>Pierenloop</strong></strong> bestaat ondertussen meer dan 30 jaar en is
  genoemd naar de inwoners van Ravels, de <strong><strong>Ravelse pieren</st
 rong></strong>. Tijdens het weekend van Ravels kermis wordt de Pierenloop g
 eorganiseerd, een jogging over verschillende afstanden met start en aankoms
 t in het centrum van Ravels.&nbsp;</p><p>Sinds enkele jaren hebben we ook v
 oor de&nbsp;<strong><strong>wandelaars</strong></strong>&nbsp;enkele parcou
 rs uitgestippeld.&nbsp;&nbsp;</p><p>Is uw bedrijf een klein beetje sportief
  aangelegd? Dan hebben we daarbij nog een heel mooie&nbsp;<strong><strong>K
 MO-challenge</strong></strong>&nbsp;waaraan je kan deelnemen.&nbsp;&nbsp;</
 p><p>Voor ieder wat wils toch?&nbsp;</p><p>Dit jaar wordt de Pierenloop geo
 rganiseerd op <strong><strong>zaterdag</strong></strong> &nbsp;<strong><str
 ong>6 september 2025.</strong></strong></p><p><strong><strong> </strong></s
 trong>&nbsp;</p><ul><li><strong><strong>Waar: &nbsp;&nbsp;</strong></strong
 ><strong><strong>De WOUWER&nbsp;– kloosterstraat – Ravels</strong></strong>
 </li></ul><h5><strong><strong>Kinderlopen starten om&nbsp;14.00u&nbsp;met e
 erst de 400 meter voor de allerkleinsten</strong></strong></h5><ul><li><str
 ong><strong>14.10u</strong></strong>: start van 1 km</li><li>Voorlopers zij
 n voorzien bij de 400m en 1km tot ongeveer halverwege de afstand.</li><li><
 strong><strong>14.45u</strong></strong>: kindertombola waar er heel wat&nbs
 p;<strong><strong>bonnen voor kermisattracties</strong></strong>&nbsp;te wi
 nnen zijn!</li><li><strong><strong>14.30u</strong></strong>:&nbsp;start van
  de 11 km en de 10 miles.</li><li><strong><strong>14.40u:</strong></strong>
 &nbsp;start van de 5 km.</li><li><strong><strong>Prijsuitreiking</strong></
 strong>&nbsp;na aankomst van de laatste loper.</li><li><strong><strong>Tass
 enbewaking</strong></strong>&nbsp;vanaf 13.30u in zaal de Wouwer.</li><li><
 strong><strong>Daginschrijvingen</strong></strong>&nbsp;op 6 september:<ul>
 <li>Van&nbsp;<strong><strong>8u30 tot 14u</strong></strong>&nbsp;voor wande
 laars</li><li>Van&nbsp;<strong><strong>12u tot 14u</strong></strong>&nbsp;v
 oor lopers</li></ul></li></ul><p>Contact:&nbsp;<joomla-hidden-mail  is-link
 ="1" is-email="1" first="ZnJhbmsudmVyY2Fsc3RlcmVu" last="dGVsZW5ldC5iZQ==" 
 text="ZnJhbmsudmVyY2Fsc3RlcmVuQHRlbGVuZXQuYmU=" base="" >Dit e-mailadres wo
 rdt beveiligd tegen spambots. JavaScript dient ingeschakeld te zijn om het 
 te bekijken.</joomla-hidden-mail></p><p>Prijs : € 10,00 voorinschrijving me
 t T shirt – € 14,00 daginschrijving – € 4,00 kinderen</p><p>Website en voor
 inschrijven:&nbsp;<a href="http://www.pierenloop.be/">www.pierenloop.be</a>
 </p>
CONTACT:Dit e-mailadres wordt beveiligd tegen spambots. JavaScript dient ingeschakeld te zijn om het te bekijken.
DTSTAMP:20260424T194321
DTSTART;TZID=Europe/Brussels:20260905T133000
SEQUENCE:0
TRANSP:OPAQUE
END:VEVENT
END:VCALENDAR